BEGIN:VCALENDAR
VERSION:2.0
PRODID:-//Dirt Magazine DE - ECPv6.12.0.1//NONSGML v1.0//EN
CALSCALE:GREGORIAN
METHOD:PUBLISH
X-WR-CALNAME:Dirt Magazine DE
X-ORIGINAL-URL:https://dirtmountainbike.de
X-WR-CALDESC:Veranstaltungen für Dirt Magazine DE
REFRESH-INTERVAL;VALUE=DURATION:PT1H
X-Robots-Tag:noindex
X-PUBLISHED-TTL:PT1H
BEGIN:VTIMEZONE
TZID:Europe/Berlin
BEGIN:DAYLIGHT
TZOFFSETFROM:+0100
TZOFFSETTO:+0200
TZNAME:CEST
DTSTART:20260329T010000
END:DAYLIGHT
BEGIN:STANDARD
TZOFFSETFROM:+0200
TZOFFSETTO:+0100
TZNAME:CET
DTSTART:20261025T010000
END:STANDARD
END:VTIMEZONE
BEGIN:VEVENT
DTSTART;TZID=Europe/Berlin:20260624T090000
DTEND;TZID=Europe/Berlin:20260627T180000
DTSTAMP:20260423T115421
CREATED:20260410T115807Z
LAST-MODIFIED:20260410T115807Z
UID:10000465-1782291600-1782583200@dirtmountainbike.de
SUMMARY:Eurobike 2026: Die Bike-Messe für Mountainbike-Fans in Frankfurt
DESCRIPTION:Die Eurobike kehrt nach Frankfurt zurück!\nVom 24. bis 27. Juni 2026 trifft sich die Bike-Szene erneut auf dem Messegelände in Frankfurt\, kompakter und stärker auf die Branche fokussiert als bisher. \n\nBUSINESS DAYS: Mittwoch bis Freitag\, 9:00 – 18:00 Uhr\nEUROBIKE FESTIVAL: Samstag\, 9:00 – 18:00 Uhr\n\nAuch für Mountainbiker bleibt die Eurobike ein Pflichttermin: Neue Bikes\, fette Parts und die wichtigsten Tech-Trends für die kommende Saison stehen im Fokus. Während die Tage von Mittwoch bis Freitag klar auf Industry und Business ausgerichtet sind\, öffnet der Festival Day am Samstag für alle Fans. \nMehr Infos gibt es HIER!
URL:https://dirtmountainbike.de/kalender/eurobike-2026-die-bike-messe-fuer-mountainbike-fans-in-frankfurt
LOCATION:Messe Frankfurt\, Ludwig-Erhard-Anlage 1\, Frankfurt\, Hessen\, 60327\, Germany
CATEGORIES:Messe
ATTACH;FMTTYPE=image/jpeg:https://s3-eu-west-1.amazonaws.com/assets.pukit.de/dirtde/wp-content/uploads/2025/07/Eurobike_2025_sm_234.jpg
END:VEVENT
BEGIN:VEVENT
DTSTART;TZID=Europe/Berlin:20260627T090000
DTEND;TZID=Europe/Berlin:20260627T180000
DTSTAMP:20260423T115421
CREATED:20260410T135950Z
LAST-MODIFIED:20260410T135950Z
UID:10000466-1782550800-1782583200@dirtmountainbike.de
SUMMARY:Eurobike Festival Day 2026: Das Event für Mountainbike-Fans
DESCRIPTION:Eurobike Festival Day 2026\nAm 27. Juni 2026 öffnet die Eurobike in Frankfurt ihre Tore für alle Bike- und Outdoor-Begeisterten\, mit besonderem Fokus auf Mountainbiking. Im Mittelpunkt stehen die neuesten Trends rund um Trail\, Enduro und Downhill: von aktuellen Bikes über innovative Parts bis hin zu Bekleidung und Tech für anspruchsvolles Gelände. Dazu gibt’s zahlreiche Testmöglichkeiten\, direkten Austausch mit Marken und jede Menge Inspiration für eure nächsten Trails. Perfekt für alle\, die auf Flow\, Technik und Adrenalin stehen. \nEuch erwarten: \n\nAusgiebige Testmöglichkeiten in der Bike Area und auf den Demo-Strecken\nAction und Shows in der Action Area\nSpannende Einblicke bei der Bike Film Tour 2026\n\nMehr Infos gibt es HIER!
URL:https://dirtmountainbike.de/kalender/eurobike-festival-day-2026-das-event-fuer-mountainbike-fans
LOCATION:Messe Frankfurt\, Ludwig-Erhard-Anlage 1\, Frankfurt\, Hessen\, 60327\, Germany
CATEGORIES:Messe
ATTACH;FMTTYPE=image/jpeg:https://s3-eu-west-1.amazonaws.com/assets.pukit.de/dirtde/wp-content/uploads/2025/03/Eurobike_2024_FB_3601.jpg
END:VEVENT
END:VCALENDAR