BEGIN:VCALENDAR
VERSION:2.0
PRODID:-//Dirt Magazine DE - ECPv6.12.0.1//NONSGML v1.0//EN
CALSCALE:GREGORIAN
METHOD:PUBLISH
X-WR-CALNAME:Dirt Magazine DE
X-ORIGINAL-URL:https://dirtmountainbike.de
X-WR-CALDESC:Veranstaltungen für Dirt Magazine DE
REFRESH-INTERVAL;VALUE=DURATION:PT1H
X-Robots-Tag:noindex
X-PUBLISHED-TTL:PT1H

BEGIN:VEVENT
DTSTART;TZID=Europe/Berlin:20250325T193000
DTEND;TZID=Europe/Berlin:20250325T223000
DTSTAMP:20260421T143313
CREATED:20250214T093436Z
LAST-MODIFIED:20250214T093436Z
UID:10000353-1742931000-1742941800@dirtmountainbike.de
SUMMARY:Banff Mountain Film Festival World Tour 2025 – Kaiserslautern
DESCRIPTION:Banff 2025: Mit Anytime – CALI von Emil Johansson\nDie Banff Mountain Film Festival World Tour 2025 bringt packende Mountainbike-Action und inspirierende Outdoor-Geschichten auf die große Leinwand. Ab Ende Januar erwarten euch frische Bike-Movies wie Anytime – CALI mit dem kreativen Slopestyle-Profi Emil Johansson sowie weitere beeindruckende Filme\, die die Vielfalt des Outdoor-Sports feiern. \nOb atemberaubende Tricks des vierfachen Slopestyle-Weltmeisters oder die inspirierende Geschichte eines Freeriders\, der zum Bio-Bauern wird – diese Tour hat für jeden Mountainbike- und Abenteuer-Fan etwas zu bieten! \nMehr Infos zum Programm gibt es hier!  \nInfos zu Tickets gibt es hier!  \n\n      \n        \n        Emil Johansson riding in Atascadero\, California\, USA for the new Anthill Films movie ‚Anytime‘.
URL:https://dirtmountainbike.de/kalender/banff-mountain-film-festival-world-tour-2025-kaiserslautern
LOCATION:Kammgarn Kaiserslautern\, Schönstraße 10\, Kaiserslautern\, 67659\, Deutschland
CATEGORIES:Filmtour
ATTACH;FMTTYPE=image/jpeg:https://s3-eu-west-1.amazonaws.com/assets.pukit.de/dirtde/wp-content/uploads/2025/01/http___s3-eu-west-1.amazonaws.com_assets.pukit_.de_mporade_new_wp-content_uploads_2025_01_BANFF25_KeyVisual_1920x1080.jpg
ORGANIZER;CN="Moving Adventures":MAILTO:info@moving-adventures.de
END:VEVENT
BEGIN:VEVENT
DTSTART;TZID=Europe/Berlin:20241119T193000
DTEND;TZID=Europe/Berlin:20241119T223000
DTSTAMP:20260421T143313
CREATED:20241001T182651Z
LAST-MODIFIED:20241002T090228Z
UID:10000097-1732044600-1732055400@dirtmountainbike.de
SUMMARY:Die European Outdoor Film Tour 2024 | EOFT – Kaiserslautern
DESCRIPTION:EOFT 2024 – Die besten Outdoor- und MountainbikeFilme ab Oktober auf Tour\nMit „Cycle of Bayanihan“ – Profiathletin Samantha Soriano auf den Philippinen\nGute Nachrichten für alle Mountainbike-Fans: Die European Outdoor Film Tour (EOFT) 2024 steht in den Startlöchern und verspricht ab Oktober spektakuläre Abenteuer und atemberaubende Action auf der großen Leinwand – mit den besten Outdoor- und Abenteuerfilmen des Jahres! \nPräsentiert werden die sechs herausragendsten Outdoorfilme des Jahres. Unter anderem der Mountainbike Movie: Cycle of Bayanihan mit Mountainbike-Profiathletin Samantha Soriano auf den Philippinen. Doch das ist längst nicht alles. Von einer Floßfahrt ins Ungewisse über Freeskie am Arlberg bis hin zum Klettern in der Sierra Nevada – dieses Programm hat für jeden Outdoor-Fan etwas zu bieten. \nDas ganze Programm der EOFT 2024 findet ihr hier! \n&nbsp\,
URL:https://dirtmountainbike.de/kalender/die-european-outdoor-film-tour-2024-eoft-kaiserslautern
LOCATION:Kammgarn Kaiserslautern\, Schönstraße 10\, Kaiserslautern\, 67659\, Deutschland
CATEGORIES:Filmtour
ATTACH;FMTTYPE=image/jpeg:https://s3-eu-west-1.amazonaws.com/assets.pukit.de/dirtde/wp-content/uploads/2024/09/EOFT24_Keyvisual_1920x1080.jpg
ORGANIZER;CN="Moving Adventures":MAILTO:info@moving-adventures.de
END:VEVENT
BEGIN:VEVENT
DTSTART;TZID=Europe/Berlin:20260421T143313
DTEND;TZID=Europe/Berlin:20260421T143313
DTSTAMP:20260421T143313
CREATED:20260316T131241Z
LAST-MODIFIED:20260316T131251Z
UID:10000462-0-0@dirtmountainbike.de
SUMMARY:Bike Film Tour 2026: Kaiserslautern
DESCRIPTION:Die Mountainbike-Saison 2026 beginnt nicht nur draußen auf den Trails\, sondern auch im Kino: Mit Season 2 geht die Bike Film Tour erneut auf Reisen und präsentiert ein neues Programm voller großer Abenteuer\, kreativer Fahrstile\, spannender Charaktere und gelebter Bike-Kultur. Als offizieller Partner begleiten wir die Tour mit Begeisterung\, denn sie ist längst mehr als Unterhaltung – sie bringt die Szene zusammen und erinnert daran\, was uns alle aufs Rad treibt. \nDas Line-up 2026 vereint Freeride\, Enduro\, Dirt und Abenteuer mit starken Geschichten und zeigt Mountainbiken als das\, was es heute ist: Lifestyle\, Leidenschaft\, Sport und Ausdruck von Freiheit zugleich. \nMehr Infos zum Programm der Bike Film Tour 2026 Season 2 gibt es HIER!\n \nDieses Video auf YouTube ansehen
URL:https://dirtmountainbike.de/kalender/bike-film-tour-2026-kaiserslautern
LOCATION:Kammgarn Kaiserslautern\, Schönstraße 10\, Kaiserslautern\, 67659\, Deutschland
CATEGORIES:Filmtour
ATTACH;FMTTYPE=image/jpeg:https://s3-eu-west-1.amazonaws.com/assets.pukit.de/dirtde/wp-content/uploads/2026/02/BIKEFILMTOUR_Season-02_poster_1920x1080.jpg
ORGANIZER;CN="Moving Adventures":MAILTO:info@moving-adventures.de
END:VEVENT
BEGIN:VEVENT
DTSTART;TZID=Europe/Berlin:20260421T143313
DTEND;TZID=Europe/Berlin:20260421T143313
DTSTAMP:20260421T143313
CREATED:20260212T094952Z
LAST-MODIFIED:20260212T094952Z
UID:10000398-0-0@dirtmountainbike.de
SUMMARY:Banff 2026: Kaiserslautern
DESCRIPTION:Banff Mountain Film Festival World Tour 2026 in Salzburg. Ab Januar zählt die Banff Tour 2026 erneut zu den wichtigsten Kino-Highlights für alle\, die Berge\, Abenteuer und Outdoor-Kultur leben. In einem rund zweistündigen Programm bringt die Filmtour eine kuratierte Auswahl der besten Outdoor- und Abenteuerfilme des Jahres auf die große Leinwand und erzählt eindrucksvolle Geschichten aus Klettern\, Bergsteigen\, Freeriden und Expedition. Dabei geht es nicht nur um großes Kino\, sondern auch um Inspiration für die eigene Saison\, ob auf Skiern\, am Fels oder auf dem Bike.
URL:https://dirtmountainbike.de/kalender/banff-2026-kaiserslautern
LOCATION:Kammgarn Kaiserslautern\, Schönstraße 10\, Kaiserslautern\, 67659\, Deutschland
CATEGORIES:Film Festival,Outdoor
ATTACH;FMTTYPE=image/jpeg:https://s3-eu-west-1.amazonaws.com/assets.pukit.de/dirtde/wp-content/uploads/2026/01/BANFF26_KeyVisual_1920x1080_©Banff-National-Park-photo-by-Paul-Zizka.jpg
END:VEVENT
END:VCALENDAR